BEGIN:VCALENDAR
VERSION:2.0
PRODID:-//Lega dei Ticinesi - ECPv5.14.2.1//NONSGML v1.0//EN
CALSCALE:GREGORIAN
METHOD:PUBLISH
X-WR-CALNAME:Lega dei Ticinesi
X-ORIGINAL-URL:https://lega-dei-ticinesi.ch
X-WR-CALDESC:Eventi per Lega dei Ticinesi
REFRESH-INTERVAL;VALUE=DURATION:PT1H
X-Robots-Tag:noindex
X-PUBLISHED-TTL:PT1H
BEGIN:VTIMEZONE
TZID:Europe/Zurich
BEGIN:DAYLIGHT
TZOFFSETFROM:+0100
TZOFFSETTO:+0200
TZNAME:CEST
DTSTART:20230326T010000
END:DAYLIGHT
BEGIN:STANDARD
TZOFFSETFROM:+0200
TZOFFSETTO:+0100
TZNAME:CET
DTSTART:20231029T010000
END:STANDARD
END:VTIMEZONE
BEGIN:VEVENT
DTSTART;TZID=Europe/Zurich:20230318T183000
DTEND;TZID=Europe/Zurich:20230318T213000
DTSTAMP:20231023T053825
CREATED:20230306T212729Z
LAST-MODIFIED:20230306T212729Z
UID:37793-1679164200-1679175000@lega-dei-ticinesi.ch
SUMMARY:Norman Gobbi – L’è un gran risott!
DESCRIPTION:Cena offerta – dalle 18.30
URL:https://lega-dei-ticinesi.ch/event/norman-gobbi-le-un-gran-risott/
LOCATION:Salone Olimpia\, Via Lucomagno 25\, Biasca\, 6710\, Svizzera
END:VEVENT
END:VCALENDAR