BEGIN:VCALENDAR
VERSION:2.0
PRODID:-//Lega dei Ticinesi - ECPv5.14.2.1//NONSGML v1.0//EN
CALSCALE:GREGORIAN
METHOD:PUBLISH
X-WR-CALNAME:Lega dei Ticinesi
X-ORIGINAL-URL:https://lega-dei-ticinesi.ch
X-WR-CALDESC:Eventi per Lega dei Ticinesi
REFRESH-INTERVAL;VALUE=DURATION:PT1H
X-Robots-Tag:noindex
X-PUBLISHED-TTL:PT1H
BEGIN:VTIMEZONE
TZID:Europe/Zurich
BEGIN:DAYLIGHT
TZOFFSETFROM:+0100
TZOFFSETTO:+0200
TZNAME:CEST
DTSTART:20220327T010000
END:DAYLIGHT
BEGIN:STANDARD
TZOFFSETFROM:+0200
TZOFFSETTO:+0100
TZNAME:CET
DTSTART:20221030T010000
END:STANDARD
END:VTIMEZONE
BEGIN:VEVENT
DTSTART;TZID=Europe/Zurich:20220910T090000
DTEND;TZID=Europe/Zurich:20220910T140000
DTSTAMP:20231023T053801
CREATED:20220905T155834Z
LAST-MODIFIED:20220905T155834Z
UID:37167-1662800400-1662818400@lega-dei-ticinesi.ch
SUMMARY:Bancarella di raccolta firme
DESCRIPTION:Vi aspettiamo per la raccolta firme “Basta spennare il cittadino\, cassa malati deducibile integralmente!”
URL:https://lega-dei-ticinesi.ch/event/bancarella-di-raccolta-firme-5/
LOCATION:Piazzale alla Valle – Mendrisio\, Piazzale alla Valle\, Mendrisio\, Svizzera
END:VEVENT
BEGIN:VEVENT
DTSTART;TZID=Europe/Zurich:20220917T090000
DTEND;TZID=Europe/Zurich:20220917T120000
DTSTAMP:20231023T053801
CREATED:20220915T052441Z
LAST-MODIFIED:20220915T052441Z
UID:37198-1663405200-1663416000@lega-dei-ticinesi.ch
SUMMARY:Bancarella di raccolta firme
DESCRIPTION:Vi aspettiamo per la raccolta firme “Basta spennare il cittadino\, cassa malati deducibile integralmente!”
URL:https://lega-dei-ticinesi.ch/event/bancarella-di-raccolta-firme-15/
LOCATION:Piazzale alla Valle – Mendrisio\, Piazzale alla Valle\, Mendrisio\, Svizzera
END:VEVENT
BEGIN:VEVENT
DTSTART;TZID=Europe/Zurich:20220918T090000
DTEND;TZID=Europe/Zurich:20220918T120000
DTSTAMP:20231023T053801
CREATED:20220915T052530Z
LAST-MODIFIED:20220915T052838Z
UID:37200-1663491600-1663502400@lega-dei-ticinesi.ch
SUMMARY:Bancarella di raccolta firme
DESCRIPTION:Vi aspettiamo per la raccolta firme “Basta spennare il cittadino\, cassa malati deducibile integralmente!”
URL:https://lega-dei-ticinesi.ch/event/bancarella-di-raccolta-firme-16/
LOCATION:Piazzale alla Valle – Mendrisio\, Piazzale alla Valle\, Mendrisio\, Svizzera
END:VEVENT
BEGIN:VEVENT
DTSTART;TZID=Europe/Zurich:20220924T113000
DTEND;TZID=Europe/Zurich:20220924T153000
DTSTAMP:20231023T053801
CREATED:20220915T052606Z
LAST-MODIFIED:20220915T213705Z
UID:37202-1664019000-1664033400@lega-dei-ticinesi.ch
SUMMARY:Bancarella di raccolta firme
DESCRIPTION:Vi aspettiamo per la raccolta firme “Basta spennare il cittadino\, cassa malati deducibile integralmente!”
URL:https://lega-dei-ticinesi.ch/event/bancarella-di-raccolta-firme-17/
LOCATION:Piazzale alla Valle – Mendrisio\, Piazzale alla Valle\, Mendrisio\, Svizzera
END:VEVENT
BEGIN:VEVENT
DTSTART;TZID=Europe/Zurich:20220925T110000
DTEND;TZID=Europe/Zurich:20220925T150000
DTSTAMP:20231023T053801
CREATED:20220915T052640Z
LAST-MODIFIED:20220915T213746Z
UID:37204-1664103600-1664118000@lega-dei-ticinesi.ch
SUMMARY:Bancarella di raccolta firme
DESCRIPTION:Vi aspettiamo per la raccolta firme “Basta spennare il cittadino\, cassa malati deducibile integralmente!”
URL:https://lega-dei-ticinesi.ch/event/bancarella-di-raccolta-firme-18/
LOCATION:Piazzale alla Valle – Mendrisio\, Piazzale alla Valle\, Mendrisio\, Svizzera
END:VEVENT
END:VCALENDAR