BEGIN:VCALENDAR
VERSION:2.0
PRODID:-//Lega dei Ticinesi - ECPv5.14.2.1//NONSGML v1.0//EN
CALSCALE:GREGORIAN
METHOD:PUBLISH
X-WR-CALNAME:Lega dei Ticinesi
X-ORIGINAL-URL:https://lega-dei-ticinesi.ch
X-WR-CALDESC:Eventi per Lega dei Ticinesi
REFRESH-INTERVAL;VALUE=DURATION:PT1H
X-Robots-Tag:noindex
X-PUBLISHED-TTL:PT1H
BEGIN:VTIMEZONE
TZID:Europe/Zurich
BEGIN:DAYLIGHT
TZOFFSETFROM:+0100
TZOFFSETTO:+0200
TZNAME:CEST
DTSTART:20230326T010000
END:DAYLIGHT
BEGIN:STANDARD
TZOFFSETFROM:+0200
TZOFFSETTO:+0100
TZNAME:CET
DTSTART:20231029T010000
END:STANDARD
END:VTIMEZONE
BEGIN:VEVENT
DTSTART;TZID=Europe/Zurich:20230312T180000
DTEND;TZID=Europe/Zurich:20230312T220000
DTSTAMP:20231023T053830
CREATED:20230305T223227Z
LAST-MODIFIED:20230307T201308Z
UID:37773-1678644000-1678658400@lega-dei-ticinesi.ch
SUMMARY:Aperitivo elettorale
DESCRIPTION:Venite a scoprire i candidati della sezione di Cadenazzo!
URL:https://lega-dei-ticinesi.ch/event/aperitivo-elettorale-7/
LOCATION:Osteria della Vecchia Segheria\, Via Monte Ceneri 64\, Cadenazzo\, 6593\, Svizzera
ATTACH;FMTTYPE=image/jpeg:https://lega-dei-ticinesi.ch/wp-content/uploads/2023/03/Screenshot_20230306_125814_Drive.jpg
END:VEVENT
END:VCALENDAR