BEGIN:VCALENDAR
VERSION:2.0
PRODID:-//Lega dei Ticinesi - ECPv5.14.2.1//NONSGML v1.0//EN
CALSCALE:GREGORIAN
METHOD:PUBLISH
X-WR-CALNAME:Lega dei Ticinesi
X-ORIGINAL-URL:https://lega-dei-ticinesi.ch
X-WR-CALDESC:Eventi per Lega dei Ticinesi
REFRESH-INTERVAL;VALUE=DURATION:PT1H
X-Robots-Tag:noindex
X-PUBLISHED-TTL:PT1H
BEGIN:VTIMEZONE
TZID:Europe/Zurich
BEGIN:DAYLIGHT
TZOFFSETFROM:+0100
TZOFFSETTO:+0200
TZNAME:CEST
DTSTART:20230326T010000
END:DAYLIGHT
BEGIN:STANDARD
TZOFFSETFROM:+0200
TZOFFSETTO:+0100
TZNAME:CET
DTSTART:20231029T010000
END:STANDARD
END:VTIMEZONE
BEGIN:VEVENT
DTSTART;TZID=Europe/Zurich:20230205T110000
DTEND;TZID=Europe/Zurich:20230205T170000
DTSTAMP:20231023T053737
CREATED:20230102T192951Z
LAST-MODIFIED:20230123T174122Z
UID:37430-1675594800-1675616400@lega-dei-ticinesi.ch
SUMMARY:Festa ticinese - Bellinzona e Alto Ticino
DESCRIPTION:Venite a conoscerci! \nIscrizioni:  \nDaniela 079 546 18 57 \nManuela 079 155 70 82 \nPato 079 457 23 61 \nMail: ldtbellinzona@gmail.com
URL:https://lega-dei-ticinesi.ch/event/festa-regionale-bellinzona-e-alto-ticino/
LOCATION:Mercato coperto di Giubiasco\, Viale 1814\, Giubiasco\, 6512
END:VEVENT
END:VCALENDAR