BEGIN:VCALENDAR
VERSION:2.0
PRODID:-//Lega dei Ticinesi - ECPv5.14.2.1//NONSGML v1.0//EN
CALSCALE:GREGORIAN
METHOD:PUBLISH
X-WR-CALNAME:Lega dei Ticinesi
X-ORIGINAL-URL:https://lega-dei-ticinesi.ch
X-WR-CALDESC:Eventi per Lega dei Ticinesi
REFRESH-INTERVAL;VALUE=DURATION:PT1H
X-Robots-Tag:noindex
X-PUBLISHED-TTL:PT1H
BEGIN:VTIMEZONE
TZID:Europe/Zurich
BEGIN:DAYLIGHT
TZOFFSETFROM:+0100
TZOFFSETTO:+0200
TZNAME:CEST
DTSTART:20220327T010000
END:DAYLIGHT
BEGIN:STANDARD
TZOFFSETFROM:+0200
TZOFFSETTO:+0100
TZNAME:CET
DTSTART:20221030T010000
END:STANDARD
END:VTIMEZONE
BEGIN:VEVENT
DTSTART;TZID=Europe/Zurich:20220924T100000
DTEND;TZID=Europe/Zurich:20220924T160000
DTSTAMP:20231023T053844
CREATED:20220921T195937Z
LAST-MODIFIED:20220924T091217Z
UID:37245-1664013600-1664035200@lega-dei-ticinesi.ch
SUMMARY:Bancarella di raccolta firme
DESCRIPTION:Vi aspettiamo per la raccolta firme “Basta spennare il cittadino\, cassa malati deducibile integralmente!”
URL:https://lega-dei-ticinesi.ch/event/bancarella-di-raccolta-firme-29/
LOCATION:Locarno\, Via Ramogna\, Svizzera
END:VEVENT
BEGIN:VEVENT
DTSTART;TZID=Europe/Zurich:20221022T100000
DTEND;TZID=Europe/Zurich:20221022T160000
DTSTAMP:20231023T053844
CREATED:20220921T200023Z
LAST-MODIFIED:20220924T091408Z
UID:37248-1666432800-1666454400@lega-dei-ticinesi.ch
SUMMARY:Bancarella di raccolta firme
DESCRIPTION:Vi aspettiamo per la raccolta firme “Basta spennare il cittadino\, cassa malati deducibile integralmente!”
URL:https://lega-dei-ticinesi.ch/event/bancarella-di-raccolta-firme-30/
LOCATION:Locarno\, Via Ramogna\, Svizzera
END:VEVENT
BEGIN:VEVENT
DTSTART;TZID=Europe/Zurich:20221119T100000
DTEND;TZID=Europe/Zurich:20221119T160000
DTSTAMP:20231023T053844
CREATED:20220921T200100Z
LAST-MODIFIED:20220924T091444Z
UID:37250-1668852000-1668873600@lega-dei-ticinesi.ch
SUMMARY:Bancarella di raccolta firme
DESCRIPTION:Vi aspettiamo per la raccolta firme “Basta spennare il cittadino\, cassa malati deducibile integralmente!”
URL:https://lega-dei-ticinesi.ch/event/bancarella-di-raccolta-firme-31/
LOCATION:Locarno\, Via Ramogna\, Svizzera
END:VEVENT
END:VCALENDAR