BEGIN:VCALENDAR
VERSION:2.0
PRODID:-//Lega dei Ticinesi - ECPv5.14.2.1//NONSGML v1.0//EN
CALSCALE:GREGORIAN
METHOD:PUBLISH
X-WR-CALNAME:Lega dei Ticinesi
X-ORIGINAL-URL:https://lega-dei-ticinesi.ch
X-WR-CALDESC:Eventi per Lega dei Ticinesi
REFRESH-INTERVAL;VALUE=DURATION:PT1H
X-Robots-Tag:noindex
X-PUBLISHED-TTL:PT1H
BEGIN:VTIMEZONE
TZID:Europe/Zurich
BEGIN:DAYLIGHT
TZOFFSETFROM:+0100
TZOFFSETTO:+0200
TZNAME:CEST
DTSTART:20230326T010000
END:DAYLIGHT
BEGIN:STANDARD
TZOFFSETFROM:+0200
TZOFFSETTO:+0100
TZNAME:CET
DTSTART:20231029T010000
END:STANDARD
END:VTIMEZONE
BEGIN:VEVENT
DTSTART;TZID=Europe/Zurich:20230210T180000
DTEND;TZID=Europe/Zurich:20230210T233000
DTSTAMP:20231023T053821
CREATED:20230203T185619Z
LAST-MODIFIED:20230203T185619Z
UID:37669-1676052000-1676071800@lega-dei-ticinesi.ch
SUMMARY:Norman Gobbi – Evento in piazza
DESCRIPTION:L’è un gran risott! \nCena Offerta
URL:https://lega-dei-ticinesi.ch/event/norman-gobbi-evento-in-piazza/
LOCATION:Capannone Pompieri Capriasca\, Via Chiesa\, Tesserete\, 6950\, Svizzera
END:VEVENT
END:VCALENDAR