BEGIN:VCALENDAR
VERSION:2.0
PRODID:-//Lega dei Ticinesi - ECPv5.14.2.1//NONSGML v1.0//EN
CALSCALE:GREGORIAN
METHOD:PUBLISH
X-WR-CALNAME:Lega dei Ticinesi
X-ORIGINAL-URL:https://lega-dei-ticinesi.ch
X-WR-CALDESC:Eventi per Lega dei Ticinesi
REFRESH-INTERVAL;VALUE=DURATION:PT1H
X-Robots-Tag:noindex
X-PUBLISHED-TTL:PT1H
BEGIN:VTIMEZONE
TZID:Europe/Zurich
BEGIN:DAYLIGHT
TZOFFSETFROM:+0100
TZOFFSETTO:+0200
TZNAME:CEST
DTSTART:20230326T010000
END:DAYLIGHT
BEGIN:STANDARD
TZOFFSETFROM:+0200
TZOFFSETTO:+0100
TZNAME:CET
DTSTART:20231029T010000
END:STANDARD
END:VTIMEZONE
BEGIN:VEVENT
DTSTART;TZID=Europe/Zurich:20230304T110000
DTEND;TZID=Europe/Zurich:20230304T150000
DTSTAMP:20231023T053832
CREATED:20230203T190144Z
LAST-MODIFIED:20230223T194555Z
UID:37678-1677927600-1677942000@lega-dei-ticinesi.ch
SUMMARY:Norman Gobbi – Evento in piazza
DESCRIPTION:L’è un gran risott! \nPranzo offerto
URL:https://lega-dei-ticinesi.ch/event/norman-gobbi-evento-in-piazza-4/
LOCATION:Azienda Agricola Il Caraccio\, via Obino 42\, Castel San Pietro\, 6872\, Svizzera
END:VEVENT
END:VCALENDAR