BEGIN:VCALENDAR
VERSION:2.0
PRODID:-//Lega dei Ticinesi - ECPv5.14.2.1//NONSGML v1.0//EN
CALSCALE:GREGORIAN
METHOD:PUBLISH
X-WR-CALNAME:Lega dei Ticinesi
X-ORIGINAL-URL:https://lega-dei-ticinesi.ch
X-WR-CALDESC:Eventi per Lega dei Ticinesi
REFRESH-INTERVAL;VALUE=DURATION:PT1H
X-Robots-Tag:noindex
X-PUBLISHED-TTL:PT1H
BEGIN:VTIMEZONE
TZID:Europe/Zurich
BEGIN:DAYLIGHT
TZOFFSETFROM:+0100
TZOFFSETTO:+0200
TZNAME:CEST
DTSTART:20230326T010000
END:DAYLIGHT
BEGIN:STANDARD
TZOFFSETFROM:+0200
TZOFFSETTO:+0100
TZNAME:CET
DTSTART:20231029T010000
END:STANDARD
END:VTIMEZONE
BEGIN:VEVENT
DTSTART;TZID=Europe/Zurich:20231022T160000
DTEND;TZID=Europe/Zurich:20231022T200000
DTSTAMP:20231023T080359
CREATED:20231020T145940Z
LAST-MODIFIED:20231022T054545Z
UID:38282-1697990400-1698004800@lega-dei-ticinesi.ch
SUMMARY:Ritrovo al Bar Iberia in attesa dei risultati elettorali
DESCRIPTION:Domenica 22 ottobre ci riuniamo al Bar Iberia (in Via Monte Boglia a Lugano) a partire dalle ore 16.00 per seguire i risultati elettorali. \nPassate a trovarci.
URL:https://lega-dei-ticinesi.ch/event/ritrovo-al-bar-iberia-in-attesa-dei-risultati-elettorali/
END:VEVENT
END:VCALENDAR