BEGIN:VCALENDAR
VERSION:2.0
PRODID:-//Lega dei Ticinesi - ECPv5.14.2.1//NONSGML v1.0//EN
CALSCALE:GREGORIAN
METHOD:PUBLISH
X-WR-CALNAME:Lega dei Ticinesi
X-ORIGINAL-URL:https://lega-dei-ticinesi.ch
X-WR-CALDESC:Eventi per Lega dei Ticinesi
REFRESH-INTERVAL;VALUE=DURATION:PT1H
X-Robots-Tag:noindex
X-PUBLISHED-TTL:PT1H
BEGIN:VTIMEZONE
TZID:Europe/Zurich
BEGIN:DAYLIGHT
TZOFFSETFROM:+0100
TZOFFSETTO:+0200
TZNAME:CEST
DTSTART:20230326T010000
END:DAYLIGHT
BEGIN:STANDARD
TZOFFSETFROM:+0200
TZOFFSETTO:+0100
TZNAME:CET
DTSTART:20231029T010000
END:STANDARD
END:VTIMEZONE
BEGIN:VEVENT
DTSTART;TZID=Europe/Zurich:20231014T090000
DTEND;TZID=Europe/Zurich:20231014T123000
DTSTAMP:20231023T050109
CREATED:20231003T135701Z
LAST-MODIFIED:20231003T135701Z
UID:38235-1697274000-1697286600@lega-dei-ticinesi.ch
SUMMARY:Lega al Mercato di Bellinzona
DESCRIPTION:Sabato 14 ottobre 2023 la Sezione Lega di Bellinzona organizza uno stand al mercato di Bellinzona (09.00-12.30).\nSarà l’occasione per conoscere meglio i candidati al Consiglio nazionale della Lista principale e delle Sottoliste.\nVi aspettiamo numerosi.
URL:https://lega-dei-ticinesi.ch/event/lega-al-mercato-di-bellinzona-2/
END:VEVENT
END:VCALENDAR