BEGIN:VCALENDAR
VERSION:2.0
PRODID:-//Lega dei Ticinesi - ECPv5.14.2.1//NONSGML v1.0//EN
CALSCALE:GREGORIAN
METHOD:PUBLISH
X-WR-CALNAME:Lega dei Ticinesi
X-ORIGINAL-URL:https://lega-dei-ticinesi.ch
X-WR-CALDESC:Eventi per Lega dei Ticinesi
REFRESH-INTERVAL;VALUE=DURATION:PT1H
X-Robots-Tag:noindex
X-PUBLISHED-TTL:PT1H
BEGIN:VTIMEZONE
TZID:Europe/Zurich
BEGIN:DAYLIGHT
TZOFFSETFROM:+0100
TZOFFSETTO:+0200
TZNAME:CEST
DTSTART:20230326T010000
END:DAYLIGHT
BEGIN:STANDARD
TZOFFSETFROM:+0200
TZOFFSETTO:+0100
TZNAME:CET
DTSTART:20231029T010000
END:STANDARD
END:VTIMEZONE
BEGIN:VEVENT
DTSTART;TZID=Europe/Zurich:20231009T203000
DTEND;TZID=Europe/Zurich:20231009T220000
DTSTAMP:20231023T050128
CREATED:20230818T100544Z
LAST-MODIFIED:20230818T100544Z
UID:38093-1696883400-1696888800@lega-dei-ticinesi.ch
SUMMARY:Lega dei Ticinesi - Donne: conferenza sul valore della neutralità per la Svizzera
DESCRIPTION:Lunedì 9 ottobre 2023  si terrà una conferenza dal titolo “La neutralità ha ancora un valore per la Svizzera?” organizzata dalla Lega dei Ticinesi – Donne.\nL’evento è previsto alle ore 20:30 nella sala del Consiglio comunale di Cadenazzo in via Carà 2.
URL:https://lega-dei-ticinesi.ch/event/lega-dei-ticinesi-donne-conferenza-sul-valore-della-neutralita-per-la-svizzera/
END:VEVENT
END:VCALENDAR