BEGIN:VCALENDAR
VERSION:2.0
PRODID:-//Lega dei Ticinesi - ECPv5.14.2.1//NONSGML v1.0//EN
CALSCALE:GREGORIAN
METHOD:PUBLISH
X-WR-CALNAME:Lega dei Ticinesi
X-ORIGINAL-URL:https://lega-dei-ticinesi.ch
X-WR-CALDESC:Eventi per Lega dei Ticinesi
REFRESH-INTERVAL;VALUE=DURATION:PT1H
X-Robots-Tag:noindex
X-PUBLISHED-TTL:PT1H
BEGIN:VTIMEZONE
TZID:Europe/Zurich
BEGIN:DAYLIGHT
TZOFFSETFROM:+0100
TZOFFSETTO:+0200
TZNAME:CEST
DTSTART:20230326T010000
END:DAYLIGHT
BEGIN:STANDARD
TZOFFSETFROM:+0200
TZOFFSETTO:+0100
TZNAME:CET
DTSTART:20231029T010000
END:STANDARD
END:VTIMEZONE
BEGIN:VEVENT
DTSTART;TZID=Europe/Zurich:20231005T203000
DTEND;TZID=Europe/Zurich:20231005T220000
DTSTAMP:20231023T050041
CREATED:20230904T111127Z
LAST-MODIFIED:20231003T140421Z
UID:38134-1696537800-1696543200@lega-dei-ticinesi.ch
SUMMARY:Lega dei Ticinesi - Donne: conferenza sulla "Dignità ai Ticinesi"
DESCRIPTION:Giovedì 5 ottobre 2023  si terrà una conferenza dal titolo “Dignità ai Ticinesi” organizzata dalla Lega dei Ticinesi – Donne.\n\nL’evento è previsto alle ore 20:30 nella sala multiuso presso il Centro professionale e sociale di Cugnasco-Gerra (Via Terricciuole 1)
URL:https://lega-dei-ticinesi.ch/event/lega-dei-ticinesi-donne-conferenza-sulla-dignita-ai-ticinesi/
END:VEVENT
END:VCALENDAR