BEGIN:VCALENDAR
VERSION:2.0
PRODID:-//Lega dei Ticinesi - ECPv5.14.2.1//NONSGML v1.0//EN
CALSCALE:GREGORIAN
METHOD:PUBLISH
X-WR-CALNAME:Lega dei Ticinesi
X-ORIGINAL-URL:https://lega-dei-ticinesi.ch
X-WR-CALDESC:Eventi per Lega dei Ticinesi
REFRESH-INTERVAL;VALUE=DURATION:PT1H
X-Robots-Tag:noindex
X-PUBLISHED-TTL:PT1H
BEGIN:VTIMEZONE
TZID:Europe/Zurich
BEGIN:DAYLIGHT
TZOFFSETFROM:+0100
TZOFFSETTO:+0200
TZNAME:CEST
DTSTART:20230326T010000
END:DAYLIGHT
BEGIN:STANDARD
TZOFFSETFROM:+0200
TZOFFSETTO:+0100
TZNAME:CET
DTSTART:20231029T010000
END:STANDARD
END:VTIMEZONE
BEGIN:VEVENT
DTSTART;TZID=Europe/Zurich:20231004T183000
DTEND;TZID=Europe/Zurich:20231004T210000
DTSTAMP:20231023T050027
CREATED:20230725T112008Z
LAST-MODIFIED:20230918T223752Z
UID:38058-1696444200-1696453200@lega-dei-ticinesi.ch
SUMMARY:Elezioni federali – aperitivo elettorale Bellinzonese e Valli
DESCRIPTION:L’aperitivo è previsto mercoledì 4 ottobre dalle 18.30 alle 21.00 al Grotto Carasso da Lele a Bellinzona/Carasso (Via Birreria 12) \nVi attendiamo numerosi a conoscere i nostri candidati.
URL:https://lega-dei-ticinesi.ch/event/elezioni-federali-aperitivo-elettorale-regionale-4/
END:VEVENT
END:VCALENDAR