BEGIN:VCALENDAR
VERSION:2.0
PRODID:-//Lega dei Ticinesi - ECPv5.14.2.1//NONSGML v1.0//EN
CALSCALE:GREGORIAN
METHOD:PUBLISH
X-WR-CALNAME:Lega dei Ticinesi
X-ORIGINAL-URL:https://lega-dei-ticinesi.ch
X-WR-CALDESC:Eventi per Lega dei Ticinesi
REFRESH-INTERVAL;VALUE=DURATION:PT1H
X-Robots-Tag:noindex
X-PUBLISHED-TTL:PT1H
BEGIN:VTIMEZONE
TZID:Europe/Zurich
BEGIN:DAYLIGHT
TZOFFSETFROM:+0100
TZOFFSETTO:+0200
TZNAME:CEST
DTSTART:20230326T010000
END:DAYLIGHT
BEGIN:STANDARD
TZOFFSETFROM:+0200
TZOFFSETTO:+0100
TZNAME:CET
DTSTART:20231029T010000
END:STANDARD
END:VTIMEZONE
BEGIN:VEVENT
DTSTART;TZID=Europe/Zurich:20231001T113000
DTEND;TZID=Europe/Zurich:20231001T150000
DTSTAMP:20231023T050156
CREATED:20230802T140303Z
LAST-MODIFIED:20230802T140303Z
UID:38076-1696159800-1696172400@lega-dei-ticinesi.ch
SUMMARY:Festa Lega cantonale - Elezioni federali 2023
DESCRIPTION:La Festa si terrà domenica 1 ottobre 2023 al Capannone di Pregassona.\nL’inizio previsto alle ore 11.30. Come d’abitudine pranzo offerto e\, a seguire\, momento politico nell’imminenza dell’appuntamento elettorale di domenica 22 ottobre. \n 
URL:https://lega-dei-ticinesi.ch/event/festa-lega-cantonale-elezioni-federali-2023/
LOCATION:Capannone di Pregassona\, Via Ceresio 25\, Pregassona\, 6963\, Svizzera
END:VEVENT
END:VCALENDAR