BEGIN:VCALENDAR
VERSION:2.0
PRODID:-//Lega dei Ticinesi - ECPv5.14.2.1//NONSGML v1.0//EN
CALSCALE:GREGORIAN
METHOD:PUBLISH
X-WR-CALNAME:Lega dei Ticinesi
X-ORIGINAL-URL:https://lega-dei-ticinesi.ch
X-WR-CALDESC:Eventi per Lega dei Ticinesi
REFRESH-INTERVAL;VALUE=DURATION:PT1H
X-Robots-Tag:noindex
X-PUBLISHED-TTL:PT1H
BEGIN:VTIMEZONE
TZID:Europe/Zurich
BEGIN:DAYLIGHT
TZOFFSETFROM:+0100
TZOFFSETTO:+0200
TZNAME:CEST
DTSTART:20230326T010000
END:DAYLIGHT
BEGIN:STANDARD
TZOFFSETFROM:+0200
TZOFFSETTO:+0100
TZNAME:CET
DTSTART:20231029T010000
END:STANDARD
END:VTIMEZONE
BEGIN:VEVENT
DTSTART;TZID=Europe/Zurich:20230930T113000
DTEND;TZID=Europe/Zurich:20230930T150000
DTSTAMP:20231023T050240
CREATED:20230808T101935Z
LAST-MODIFIED:20230808T101935Z
UID:38083-1696073400-1696086000@lega-dei-ticinesi.ch
SUMMARY:Sezione Cadenazzo - Assemblea e pranzo
DESCRIPTION:Sabato 30 settembre all’Osteria della Vecchia Segheria si terrà l’Assemblea della Sezione Lega di Cadenazzo.\nL’inizio è fissato per le ore 11.30\, a seguire è previsto un pranzo.\nSarà pure l’occasione per conoscere i candidati del Movimento alle prossime Elezioni federali. \nIscrizioni:\nWaldo Grossi: 079 230 37 54\nNatascia Caccia: 076 398 59 96
URL:https://lega-dei-ticinesi.ch/event/sezione-cadenazzo-assemblea-e-pranzo/
END:VEVENT
END:VCALENDAR