BEGIN:VCALENDAR
VERSION:2.0
PRODID:-//Lega dei Ticinesi - ECPv5.14.2.1//NONSGML v1.0//EN
CALSCALE:GREGORIAN
METHOD:PUBLISH
X-WR-CALNAME:Lega dei Ticinesi
X-ORIGINAL-URL:https://lega-dei-ticinesi.ch
X-WR-CALDESC:Eventi per Lega dei Ticinesi
REFRESH-INTERVAL;VALUE=DURATION:PT1H
X-Robots-Tag:noindex
X-PUBLISHED-TTL:PT1H
BEGIN:VTIMEZONE
TZID:Europe/Zurich
BEGIN:DAYLIGHT
TZOFFSETFROM:+0100
TZOFFSETTO:+0200
TZNAME:CEST
DTSTART:20230326T010000
END:DAYLIGHT
BEGIN:STANDARD
TZOFFSETFROM:+0200
TZOFFSETTO:+0100
TZNAME:CET
DTSTART:20231029T010000
END:STANDARD
END:VTIMEZONE
BEGIN:VEVENT
DTSTART;TZID=Europe/Zurich:20230917T150000
DTEND;TZID=Europe/Zurich:20230917T210000
DTSTAMP:20231023T052854
CREATED:20230725T113126Z
LAST-MODIFIED:20230911T062659Z
UID:38063-1694962800-1694984400@lega-dei-ticinesi.ch
SUMMARY:Sezione Stabio - Passeggiata nel parco del Laveggio
DESCRIPTION:La Sezione di Stabio della Lega dei Ticinesi invita i simpatizzanti del Movimento a una passeggiata lungo il percorso didattico del Parco del Laveggio con aperitivo finale nell’Aula del Bosco.\nIl ritrovo è previsto alle ore 15.00 presso la Stazione FFS di Stabio.\n\nAlle ore 17.30\, al Grotto Santa Margherita\, il candidato al Consiglio degli Stati Marco Chiesa interverrà sul tema dell’energia. Al termine verrà offerta una risottata.\nÈ prevista la presenza dei candidati alle prossime Elezioni federali.\nIn caso di brutto tempo\, l’evento sarà posticipato al 24 settembre.\n\nIscrizioni entro il 15 settembre: mauro.bianchi@sunrise.ch – 079 221 45 41\n\nVolantino evento
URL:https://lega-dei-ticinesi.ch/event/sezione-lega-dei-ticinesi-stabio-passeggiata-nel-parco-del-laveggio/
END:VEVENT
END:VCALENDAR