BEGIN:VCALENDAR
VERSION:2.0
PRODID:-//Lega dei Ticinesi - ECPv5.14.2.1//NONSGML v1.0//EN
CALSCALE:GREGORIAN
METHOD:PUBLISH
X-WR-CALNAME:Lega dei Ticinesi
X-ORIGINAL-URL:https://lega-dei-ticinesi.ch
X-WR-CALDESC:Eventi per Lega dei Ticinesi
REFRESH-INTERVAL;VALUE=DURATION:PT1H
X-Robots-Tag:noindex
X-PUBLISHED-TTL:PT1H
BEGIN:VTIMEZONE
TZID:Europe/Zurich
BEGIN:DAYLIGHT
TZOFFSETFROM:+0100
TZOFFSETTO:+0200
TZNAME:CEST
DTSTART:20230326T010000
END:DAYLIGHT
BEGIN:STANDARD
TZOFFSETFROM:+0200
TZOFFSETTO:+0100
TZNAME:CET
DTSTART:20231029T010000
END:STANDARD
END:VTIMEZONE
BEGIN:VEVENT
DTSTART;TZID=Europe/Zurich:20230801T113000
DTEND;TZID=Europe/Zurich:20230801T150000
DTSTAMP:20231023T054425
CREATED:20230707T152130Z
LAST-MODIFIED:20230717T083848Z
UID:38019-1690889400-1690902000@lega-dei-ticinesi.ch
SUMMARY:Primo agosto 2023 - Festa Lega a Faido
DESCRIPTION:La Festa del 1 agosto quest’anno si terrà in Leventina\, più precisamente nella Sala Castelletto a Faido.\nL’inizio è previsto alle ore 11.00\, mentre da mezzogiorno sarà offerto il pranzo: salametto\, pom e pasta e formaggio dell’Alpe. \nInfo e iscrizioni\n079/247 49 88 – 079/ 457 23 61\npatrizio.farei@helvetia.ch \nIn caso di brutto tempo l’evento avrà luogo alla Pista di ghiaccio. \nVi attendiamo numerosi!
URL:https://lega-dei-ticinesi.ch/event/primo-agosto-2023-festa-lega-a-faido/
LOCATION:Sala Castelletto Faido\, Svizzera
ATTACH;FMTTYPE=image/jpeg:https://lega-dei-ticinesi.ch/wp-content/uploads/2023/07/Castelletto.jpg
END:VEVENT
END:VCALENDAR