BEGIN:VCALENDAR
VERSION:2.0
PRODID:-//Lega dei Ticinesi - ECPv5.14.2.1//NONSGML v1.0//EN
CALSCALE:GREGORIAN
METHOD:PUBLISH
X-WR-CALNAME:Lega dei Ticinesi
X-ORIGINAL-URL:https://lega-dei-ticinesi.ch
X-WR-CALDESC:Eventi per Lega dei Ticinesi
REFRESH-INTERVAL;VALUE=DURATION:PT1H
X-Robots-Tag:noindex
X-PUBLISHED-TTL:PT1H
BEGIN:VTIMEZONE
TZID:Europe/Zurich
BEGIN:DAYLIGHT
TZOFFSETFROM:+0100
TZOFFSETTO:+0200
TZNAME:CEST
DTSTART:20230326T010000
END:DAYLIGHT
BEGIN:STANDARD
TZOFFSETFROM:+0200
TZOFFSETTO:+0100
TZNAME:CET
DTSTART:20231029T010000
END:STANDARD
END:VTIMEZONE
BEGIN:VEVENT
DTSTART;TZID=Europe/Zurich:20230525T180000
DTEND;TZID=Europe/Zurich:20230525T200000
DTSTAMP:20231023T062720
CREATED:20230602T102923Z
LAST-MODIFIED:20230602T102923Z
UID:37924-1685037600-1685044800@lega-dei-ticinesi.ch
SUMMARY:Assemblea Lega Locarnese e Vallemaggia - giovedì 25 maggio 18.00 - Agriturismo Pian Marnino Gudo
DESCRIPTION:
URL:https://lega-dei-ticinesi.ch/event/assemblea-lega-locarnese-e-vallemaggia-giovedi-25-maggio-18-00-agriturismo-pian-marnino-gudo/
LOCATION:Agriturismo Pian Marnino\, Gudo\, Svizzera
END:VEVENT
BEGIN:VEVENT
DTSTART;TZID=Europe/Zurich:20230525T190000
DTEND;TZID=Europe/Zurich:20230525T210000
DTSTAMP:20231023T062720
CREATED:20230602T103244Z
LAST-MODIFIED:20230602T103244Z
UID:37927-1685041200-1685048400@lega-dei-ticinesi.ch
SUMMARY:Amici del Luganese - Momento conviviale
DESCRIPTION:Momento per discutere di  tematiche regionali.
URL:https://lega-dei-ticinesi.ch/event/amici-del-luganese-momento-conviviale/
LOCATION:Hostaria Pozzo\, Canobbio\, Svizzera
END:VEVENT
END:VCALENDAR