BEGIN:VCALENDAR
VERSION:2.0
PRODID:-//Lega dei Ticinesi - ECPv5.14.2.1//NONSGML v1.0//EN
CALSCALE:GREGORIAN
METHOD:PUBLISH
X-WR-CALNAME:Lega dei Ticinesi
X-ORIGINAL-URL:https://lega-dei-ticinesi.ch
X-WR-CALDESC:Eventi per Lega dei Ticinesi
REFRESH-INTERVAL;VALUE=DURATION:PT1H
X-Robots-Tag:noindex
X-PUBLISHED-TTL:PT1H
BEGIN:VTIMEZONE
TZID:Europe/Zurich
BEGIN:DAYLIGHT
TZOFFSETFROM:+0100
TZOFFSETTO:+0200
TZNAME:CEST
DTSTART:20230326T010000
END:DAYLIGHT
BEGIN:STANDARD
TZOFFSETFROM:+0200
TZOFFSETTO:+0100
TZNAME:CET
DTSTART:20231029T010000
END:STANDARD
END:VTIMEZONE
BEGIN:VEVENT
DTSTART;TZID=Europe/Zurich:20230325T060000
DTEND;TZID=Europe/Zurich:20230325T183000
DTSTAMP:20231023T072252
CREATED:20230222T221106Z
LAST-MODIFIED:20230222T221106Z
UID:37744-1679724000-1679769000@lega-dei-ticinesi.ch
SUMMARY:Incontro elettorale in piazza
DESCRIPTION:Vi aspettiamo per farvi conoscere i nostri candidati!
URL:https://lega-dei-ticinesi.ch/event/incontro-elettorale-in-piazza-2/
LOCATION:Piazza Dante\, Lugano\, 6900\, Svizzera
END:VEVENT
BEGIN:VEVENT
DTSTART;TZID=Europe/Zurich:20230325T090000
DTEND;TZID=Europe/Zurich:20230325T123000
DTSTAMP:20231023T072252
CREATED:20230302T072419Z
LAST-MODIFIED:20230306T213006Z
UID:37769-1679734800-1679747400@lega-dei-ticinesi.ch
SUMMARY:Aperitivo elettorale
DESCRIPTION:Vieni a conoscere i nostri candidati e i nostri obiettivi!
URL:https://lega-dei-ticinesi.ch/event/aperitivo-elettorale-6/
LOCATION:Bellinzona – Viale Stazione 12\, Svizzera
END:VEVENT
END:VCALENDAR