BEGIN:VCALENDAR
VERSION:2.0
PRODID:-//Lega dei Ticinesi - ECPv5.14.2.1//NONSGML v1.0//EN
CALSCALE:GREGORIAN
METHOD:PUBLISH
X-WR-CALNAME:Lega dei Ticinesi
X-ORIGINAL-URL:https://lega-dei-ticinesi.ch
X-WR-CALDESC:Eventi per Lega dei Ticinesi
REFRESH-INTERVAL;VALUE=DURATION:PT1H
X-Robots-Tag:noindex
X-PUBLISHED-TTL:PT1H
BEGIN:VTIMEZONE
TZID:Europe/Zurich
BEGIN:DAYLIGHT
TZOFFSETFROM:+0100
TZOFFSETTO:+0200
TZNAME:CEST
DTSTART:20230326T010000
END:DAYLIGHT
BEGIN:STANDARD
TZOFFSETFROM:+0200
TZOFFSETTO:+0100
TZNAME:CET
DTSTART:20231029T010000
END:STANDARD
END:VTIMEZONE
BEGIN:VEVENT
DTSTART;TZID=Europe/Zurich:20230209T183000
DTEND;TZID=Europe/Zurich:20230209T220000
DTSTAMP:20231023T075816
CREATED:20230124T201349Z
LAST-MODIFIED:20230124T201349Z
UID:37658-1675967400-1675980000@lega-dei-ticinesi.ch
SUMMARY:Aperitivo Elettorale
DESCRIPTION:Il Gruppo Lega dei Ticinesi di Monteceneri vi invita all’aperitivo elettorale \nSaranno presenti oltre al candidato di casa per il Gran Consiglio Daniele Piccaluga i candidati al Consiglio di Stato Norman Gobbi\, Claudio Zali e Boris Bignasca. \nVi aspettiamo numerosi! \n\nAnnunciarsi a devida@bluewin.ch
URL:https://lega-dei-ticinesi.ch/event/aperitivo-elettorale/
LOCATION:Ristorante Roccia\, Via alla Chiesa 12\, Camignolo\, 6803\, Svizzera
END:VEVENT
END:VCALENDAR